BEGIN:VCALENDAR
VERSION:2.0
PRODID:-//Shelby County Benefits - ECPv6.15.20//NONSGML v1.0//EN
CALSCALE:GREGORIAN
METHOD:PUBLISH
X-ORIGINAL-URL:https://shelbybenefitshub.com
X-WR-CALDESC:Events for Shelby County Benefits
REFRESH-INTERVAL;VALUE=DURATION:PT1H
X-Robots-Tag:noindex
X-PUBLISHED-TTL:PT1H
BEGIN:VTIMEZONE
TZID:America/Chicago
BEGIN:DAYLIGHT
TZOFFSETFROM:-0600
TZOFFSETTO:-0500
TZNAME:CDT
DTSTART:20230312T080000
END:DAYLIGHT
BEGIN:STANDARD
TZOFFSETFROM:-0500
TZOFFSETTO:-0600
TZNAME:CST
DTSTART:20231105T070000
END:STANDARD
BEGIN:DAYLIGHT
TZOFFSETFROM:-0600
TZOFFSETTO:-0500
TZNAME:CDT
DTSTART:20240310T080000
END:DAYLIGHT
BEGIN:STANDARD
TZOFFSETFROM:-0500
TZOFFSETTO:-0600
TZNAME:CST
DTSTART:20241103T070000
END:STANDARD
BEGIN:DAYLIGHT
TZOFFSETFROM:-0600
TZOFFSETTO:-0500
TZNAME:CDT
DTSTART:20250309T080000
END:DAYLIGHT
BEGIN:STANDARD
TZOFFSETFROM:-0500
TZOFFSETTO:-0600
TZNAME:CST
DTSTART:20251102T070000
END:STANDARD
END:VTIMEZONE
BEGIN:VTIMEZONE
TZID:America/New_York
BEGIN:DAYLIGHT
TZOFFSETFROM:-0500
TZOFFSETTO:-0400
TZNAME:EDT
DTSTART:20230312T070000
END:DAYLIGHT
BEGIN:STANDARD
TZOFFSETFROM:-0400
TZOFFSETTO:-0500
TZNAME:EST
DTSTART:20231105T060000
END:STANDARD
BEGIN:DAYLIGHT
TZOFFSETFROM:-0500
TZOFFSETTO:-0400
TZNAME:EDT
DTSTART:20240310T070000
END:DAYLIGHT
BEGIN:STANDARD
TZOFFSETFROM:-0400
TZOFFSETTO:-0500
TZNAME:EST
DTSTART:20241103T060000
END:STANDARD
BEGIN:DAYLIGHT
TZOFFSETFROM:-0500
TZOFFSETTO:-0400
TZNAME:EDT
DTSTART:20250309T070000
END:DAYLIGHT
BEGIN:STANDARD
TZOFFSETFROM:-0400
TZOFFSETTO:-0500
TZNAME:EST
DTSTART:20251102T060000
END:STANDARD
END:VTIMEZONE
BEGIN:VEVENT
DTSTART;TZID=America/Chicago:20240701T080000
DTEND;TZID=America/Chicago:20240920T180000
DTSTAMP:20260423T113056
CREATED:20240722T214530Z
LAST-MODIFIED:20240722T214530Z
UID:475-1719820800-1726855200@shelbybenefitshub.com
SUMMARY:Onsite Biometric Screenings at the ECC
DESCRIPTION:Each year\, you must complete a biometric screening and online health risk assessment to be eligible for the Medical Plan Wellness Premiums for the following plan year. See Medical Pre-Tax Premiums Per Pay Period on the Medical Plans page for more information. \nThis July 1 – September 20\, you can complete an onsite biometric screening at the Employee Care Clinic (ECC). \nAfter you complete your screening\, you must submit the screening form to Cigna — onsite staff will not submit this for you. View instructions for submitting the form by mail\, fax\, or electronically on the upper right side of the screening form.
URL:https://shelbybenefitshub.com/event/onsite-biometric-screenings-at-the-ecc/
LOCATION:Employee Care Clinic\, 1215 Poplar Avenue\, Memphis\, TN\, 38104\, United States
END:VEVENT
BEGIN:VEVENT
DTSTART;TZID=America/New_York:20240702T100000
DTEND;TZID=America/New_York:20240702T100000
DTSTAMP:20260423T113056
CREATED:20240701T195732Z
LAST-MODIFIED:20240701T200000Z
UID:435-1719914400-1719914400@shelbybenefitshub.com
SUMMARY:Concern Talks: Your Presence is a Present
DESCRIPTION:Your Employee Assistance Program (EAP)\, administered by CONCERN\, hosts monthly 15-minute webinars about a variety of topics. The topics\, dates\, and times of Concern Talks webinars are subject to change based upon local\, national\, or world events. \nJoin on Microsoft Teams \n\nMeeting ID: 276 335 388 517\nPasscode: uFtrA4
URL:https://shelbybenefitshub.com/event/concern-talks-your-presence-is-a-present/
END:VEVENT
BEGIN:VEVENT
DTSTART;TZID=America/New_York:20240702T113000
DTEND;TZID=America/New_York:20240702T123000
DTSTAMP:20260423T113056
CREATED:20240701T193655Z
LAST-MODIFIED:20240701T193655Z
UID:433-1719919800-1719923400@shelbybenefitshub.com
SUMMARY:Fro-Yo Healthy Summer Kick-off Happy Hour
DESCRIPTION:Enjoy Menchie’s frozen yogurt at a happy hour hosted by Shelby County Government’s Total Health Wellness Program. \nWhen: July 2\, 11:30 a.m. – 12:30 p.m.\nWhere: 1075 Mullins Station Road\, Building E2\, Room 116A
URL:https://shelbybenefitshub.com/event/fro-yo-healthy-summer-kick-off-happy-hour/
END:VEVENT
END:VCALENDAR